BEGIN:VCALENDAR
VERSION:2.0
PRODID:-//Freiwillige Feuerwehr Benthe - ECPv6.15.15//NONSGML v1.0//EN
CALSCALE:GREGORIAN
METHOD:PUBLISH
X-WR-CALNAME:Freiwillige Feuerwehr Benthe
X-ORIGINAL-URL:https://fw.ff-benthe.de
X-WR-CALDESC:Veranstaltungen für Freiwillige Feuerwehr Benthe
REFRESH-INTERVAL;VALUE=DURATION:PT1H
X-Robots-Tag:noindex
X-PUBLISHED-TTL:PT1H
BEGIN:VTIMEZONE
TZID:Europe/Berlin
BEGIN:DAYLIGHT
TZOFFSETFROM:+0100
TZOFFSETTO:+0200
TZNAME:CEST
DTSTART:20250330T010000
END:DAYLIGHT
BEGIN:STANDARD
TZOFFSETFROM:+0200
TZOFFSETTO:+0100
TZNAME:CET
DTSTART:20251026T010000
END:STANDARD
BEGIN:DAYLIGHT
TZOFFSETFROM:+0100
TZOFFSETTO:+0200
TZNAME:CEST
DTSTART:20260329T010000
END:DAYLIGHT
BEGIN:STANDARD
TZOFFSETFROM:+0200
TZOFFSETTO:+0100
TZNAME:CET
DTSTART:20261025T010000
END:STANDARD
BEGIN:DAYLIGHT
TZOFFSETFROM:+0100
TZOFFSETTO:+0200
TZNAME:CEST
DTSTART:20270328T010000
END:DAYLIGHT
BEGIN:STANDARD
TZOFFSETFROM:+0200
TZOFFSETTO:+0100
TZNAME:CET
DTSTART:20271031T010000
END:STANDARD
END:VTIMEZONE
BEGIN:VEVENT
DTSTART;TZID=Europe/Berlin:20260422T190000
DTEND;TZID=Europe/Berlin:20260422T210000
DTSTAMP:20260419T152757
CREATED:20260220T180745Z
LAST-MODIFIED:20260220T180745Z
UID:2918-1776884400-1776891600@fw.ff-benthe.de
SUMMARY:Vegetationsbrandbekämpfung
DESCRIPTION:
URL:https://fw.ff-benthe.de/event/vegetationsbrandbekaempfung-3/
LOCATION:Feuerwehrhaus\, Vogelsangstraße 7\, Benthe\, 30952\, Deutschland
CATEGORIES:Dienste,Termine
END:VEVENT
BEGIN:VEVENT
DTSTART;TZID=Europe/Berlin:20260506T190000
DTEND;TZID=Europe/Berlin:20260506T210000
DTSTAMP:20260419T152757
CREATED:20260220T180916Z
LAST-MODIFIED:20260220T180916Z
UID:2920-1778094000-1778101200@fw.ff-benthe.de
SUMMARY:Bandschlingen\, Leinen und Gurte
DESCRIPTION:
URL:https://fw.ff-benthe.de/event/bandschlingen-leinen-und-gurte/
LOCATION:Feuerwehrhaus\, Vogelsangstraße 7\, Benthe\, 30952\, Deutschland
CATEGORIES:Dienste,Termine
END:VEVENT
BEGIN:VEVENT
DTSTART;TZID=Europe/Berlin:20260520T190000
DTEND;TZID=Europe/Berlin:20260520T210000
DTSTAMP:20260419T152757
CREATED:20260220T180954Z
LAST-MODIFIED:20260220T181250Z
UID:2922-1779303600-1779310800@fw.ff-benthe.de
SUMMARY:Einsatzübung
DESCRIPTION:
URL:https://fw.ff-benthe.de/event/einsatzuebung-7/
LOCATION:Feuerwehrhaus\, Vogelsangstraße 7\, Benthe\, 30952\, Deutschland
CATEGORIES:Dienste,Termine
END:VEVENT
BEGIN:VEVENT
DTSTART;TZID=Europe/Berlin:20260603T190000
DTEND;TZID=Europe/Berlin:20260603T210000
DTSTAMP:20260419T152757
CREATED:20260220T181337Z
LAST-MODIFIED:20260220T181337Z
UID:2924-1780513200-1780520400@fw.ff-benthe.de
SUMMARY:Tragbare Leitern
DESCRIPTION:
URL:https://fw.ff-benthe.de/event/tragbare-leitern/
LOCATION:Feuerwehrhaus\, Vogelsangstraße 7\, Benthe\, 30952\, Deutschland
CATEGORIES:Dienste,Termine
END:VEVENT
BEGIN:VEVENT
DTSTART;TZID=Europe/Berlin:20260605T200000
DTEND;TZID=Europe/Berlin:20260605T213000
DTSTAMP:20260419T152757
CREATED:20260220T181511Z
LAST-MODIFIED:20260220T181511Z
UID:2926-1780689600-1780695000@fw.ff-benthe.de
SUMMARY:Quartalsversammlung
DESCRIPTION:
URL:https://fw.ff-benthe.de/event/quartalsversammlung-2/
LOCATION:Feuerwehrhaus\, Vogelsangstraße 7\, Benthe\, 30952\, Deutschland
CATEGORIES:Dienste,Termine
END:VEVENT
BEGIN:VEVENT
DTSTART;TZID=Europe/Berlin:20260606T080000
DTEND;TZID=Europe/Berlin:20260606T160000
DTSTAMP:20260419T152757
CREATED:20260220T181556Z
LAST-MODIFIED:20260220T181556Z
UID:2928-1780732800-1780761600@fw.ff-benthe.de
SUMMARY:Erste Hilfe
DESCRIPTION:
URL:https://fw.ff-benthe.de/event/erste-hilfe-2/
LOCATION:Feuerwehrhaus\, Vogelsangstraße 7\, Benthe\, 30952\, Deutschland
CATEGORIES:Dienste,Termine
END:VEVENT
BEGIN:VEVENT
DTSTART;TZID=Europe/Berlin:20260617T190000
DTEND;TZID=Europe/Berlin:20260617T210000
DTSTAMP:20260419T152757
CREATED:20260220T181741Z
LAST-MODIFIED:20260220T181741Z
UID:2930-1781722800-1781730000@fw.ff-benthe.de
SUMMARY:Fahrzeug- und Gerätekunde
DESCRIPTION:
URL:https://fw.ff-benthe.de/event/fahrzeug-und-geraetekunde/
LOCATION:Feuerwehrhaus\, Vogelsangstraße 7\, Benthe\, 30952\, Deutschland
CATEGORIES:Dienste,Termine
END:VEVENT
END:VCALENDAR